BEGIN:VCALENDAR
VERSION:2.0
PRODID:-//Country Dance Company - ECPv6.15.17.1//NONSGML v1.0//EN
CALSCALE:GREGORIAN
METHOD:PUBLISH
X-ORIGINAL-URL:https://countrydancecompany.com
X-WR-CALDESC:Évènements pour Country Dance Company
REFRESH-INTERVAL;VALUE=DURATION:PT1H
X-Robots-Tag:noindex
X-PUBLISHED-TTL:PT1H
BEGIN:VTIMEZONE
TZID:Europe/Zurich
BEGIN:DAYLIGHT
TZOFFSETFROM:+0100
TZOFFSETTO:+0200
TZNAME:CEST
DTSTART:20180325T010000
END:DAYLIGHT
BEGIN:STANDARD
TZOFFSETFROM:+0200
TZOFFSETTO:+0100
TZNAME:CET
DTSTART:20181028T010000
END:STANDARD
BEGIN:DAYLIGHT
TZOFFSETFROM:+0100
TZOFFSETTO:+0200
TZNAME:CEST
DTSTART:20190331T010000
END:DAYLIGHT
BEGIN:STANDARD
TZOFFSETFROM:+0200
TZOFFSETTO:+0100
TZNAME:CET
DTSTART:20191027T010000
END:STANDARD
BEGIN:DAYLIGHT
TZOFFSETFROM:+0100
TZOFFSETTO:+0200
TZNAME:CEST
DTSTART:20200329T010000
END:DAYLIGHT
BEGIN:STANDARD
TZOFFSETFROM:+0200
TZOFFSETTO:+0100
TZNAME:CET
DTSTART:20201025T010000
END:STANDARD
END:VTIMEZONE
BEGIN:VEVENT
DTSTART;VALUE=DATE:20190120
DTEND;VALUE=DATE:20190122
DTSTAMP:20260420T215150
CREATED:20180617T165243Z
LAST-MODIFIED:20190123T095115Z
UID:30166-1547964000-1548050399@countrydancecompany.com
SUMMARY:GOLDEN HILL DANCERS à CHAMPAGNE AU MONT D’OR (69410).
DESCRIPTION:DIMANCHE 20 JANVIER CHAMPAGNE AU MONT D’OR (69410)\nINSCRIPTION 20 JANVIER CHAMPAGNE AU MONT D’OR (69) \nPLAYLIST DIMANCHE 20 JANVIER – GRANDE SALLE CHAMPAGNE AU MONT D’OR (69410)
URL:https://countrydancecompany.com/event/olden-hill-dancers-a-champagne-au-mont-dor-69410/
LOCATION:69410 Champagne au mont d’or\, Champagne au mont d'or\, 69410\, France
END:VEVENT
BEGIN:VEVENT
DTSTART;TZID=Europe/Zurich:20190127T140000
DTEND;TZID=Europe/Zurich:20190127T220000
DTSTAMP:20260420T215150
CREATED:20190123T102554Z
LAST-MODIFIED:20190123T102825Z
UID:30633-1548597600-1548626400@countrydancecompany.com
SUMMARY:Après-midi Country - The Dancing Cowboy - Chateau-Gaillard 01
DESCRIPTION:  \nBonjour à tous\nMagali et moi avons finalisé la playlist de notre après-midi country \, linedance  qui aura lieu le dimanche 27 janvier 2019 de 14H à 19H\nNous vous attendons tous avec joie\nPS: penser à réserver pour une meilleur organisation\nci joins la playlist et affiche\nBonne révision à tous\nRemy et toute l’équipe de the dancing cowboy \nCOUNTRYALEMENT VOTRE\ntel: 0650788081\nE-MAIL: remythedancingcowboy@gmail.com\nwww:// thedancingcowboy.wix.com/chateau-gaillard01\n \nAFFICHE DU 27 JANVIER 2019 \nPLAYLIST DU 27 JANVIER 2019 (1) \n 
URL:https://countrydancecompany.com/event/apres-midi-country-the-dancing-cowboy-chateua-gaillard-01/
LOCATION:Chateau-Gaillard\, Chateau Gaillard\, 01\, France
END:VEVENT
END:VCALENDAR