BEGIN:VCALENDAR
VERSION:2.0
PRODID:-//Country Dance Company - ECPv6.15.17.1//NONSGML v1.0//EN
CALSCALE:GREGORIAN
METHOD:PUBLISH
X-WR-CALNAME:Country Dance Company
X-ORIGINAL-URL:https://countrydancecompany.com
X-WR-CALDESC:Évènements pour Country Dance Company
REFRESH-INTERVAL;VALUE=DURATION:PT1H
X-Robots-Tag:noindex
X-PUBLISHED-TTL:PT1H
BEGIN:VTIMEZONE
TZID:Europe/Zurich
BEGIN:DAYLIGHT
TZOFFSETFROM:+0100
TZOFFSETTO:+0200
TZNAME:CEST
DTSTART:20170326T010000
END:DAYLIGHT
BEGIN:STANDARD
TZOFFSETFROM:+0200
TZOFFSETTO:+0100
TZNAME:CET
DTSTART:20171029T010000
END:STANDARD
BEGIN:DAYLIGHT
TZOFFSETFROM:+0100
TZOFFSETTO:+0200
TZNAME:CEST
DTSTART:20180325T010000
END:DAYLIGHT
BEGIN:STANDARD
TZOFFSETFROM:+0200
TZOFFSETTO:+0100
TZNAME:CET
DTSTART:20181028T010000
END:STANDARD
BEGIN:DAYLIGHT
TZOFFSETFROM:+0100
TZOFFSETTO:+0200
TZNAME:CEST
DTSTART:20190331T010000
END:DAYLIGHT
BEGIN:STANDARD
TZOFFSETFROM:+0200
TZOFFSETTO:+0100
TZNAME:CET
DTSTART:20191027T010000
END:STANDARD
END:VTIMEZONE
BEGIN:VEVENT
DTSTART;VALUE=DATE:20181103
DTEND;VALUE=DATE:20181106
DTSTAMP:20260421T005545
CREATED:20180617T165952Z
LAST-MODIFIED:20180617T165952Z
UID:30169-1541224800-1541397599@countrydancecompany.com
SUMMARY:Festival country d'Evreux\, Sur le Sentier de la country - Edition 2018
DESCRIPTION:Bonjour à tous ! \nJ’ai le grand plaisir de vous présenter la programmation de la 8ème édition du festival country d’Evreux\, sur le Sentier de la country (vous trouverez l’affiche en fichier attaché : si vous souhaitez la recevoir en qualité supérieure ou en fichier pdf\, n’hésitez pas à me le demander !) : \n\nSamedi 3 novembre 2018\n\nØ  Randall King\, en provenance directe du Texas et exclusivité française pour 2018\, avec son orchestre au complet \nØ  Les Ranch House Favorites\, un des meilleurs groupes européen de Western Swing\, qui arriveront des Pays-Bas \nØ  Les Rockin’ Chairs\, qui raviront les danseurs \n\nDimanche 4 novembre 2018\n\nØ  Les Hillbilly Rockers\, que nous retrouverons après 5 ans d’absence en Normandie \nBien entendu les danseurs ne sont pas oubliés : bals CD et stages de danse alterneront avec les concerts live !! Jean-Christophe Chariwe\, Dj Jean-Chri\, nous a rejoint l’an dernier et il a enchanté les festivaliers par son dynamisme\, sa gentillesse et la qualité de ses play-lists\, 100 % country\, dans l’esprit du festival. Il sera de nouveau là cette année\, devenu pilier incontournable de la fête. \nVous pourrez également présenter une démonstration de votre club si vous le souhaitez : merci de me l’indiquer par mail dans ce cas. \nLes réservations sont ouvertes (tarif réduit jusqu’au 30 septembre 2018) : \n\nsoit avec un règlement par chèque ou par virement à partir d’une feuille de réservations ci-jointe ou à télécharger sur le site du festival (rubrique « Informations utiles »\, « Tarifs et réservations ») et à nous retourner\,\nsoit par carte bancaire avec Placeminute (accès à partir du site du festival également).\n\n  \nVous pouvez retrouver toutes les informations sur les artistes sur le site du festival (www.festival-country-evreux.fr)\, ainsi que les renseignements généraux sur la manifestation. \nJe remercie Georges Carrier pour l’aide précieuse qu’il nous a encore apportée cette année pour la programmation. \nJ’espère vous retrouver nombreux en novembre prochain ! \nCordialement. \nChantal TERRIERES \nPrésidente  \n  \nAEP LE SENTIER \n12 rue Léo Lagrange \n27180 SAINT SEBASTIEN DE MORSENT \nPortable 06 75 03 69 37 \nMail : président@aeplesentier.fr \nFeuille de reservations festival country 2018_avant 01-10-18
URL:https://countrydancecompany.com/event/festival-country-devreux-sur-le-sentier-de-la-country-edition-2018/
END:VEVENT
BEGIN:VEVENT
DTSTART;VALUE=DATE:20181103
DTEND;VALUE=DATE:20181106
DTSTAMP:20260421T005545
CREATED:20181015T095123Z
LAST-MODIFIED:20181015T095123Z
UID:30497-1541224800-1541397599@countrydancecompany.com
SUMMARY:8ème Edition Randall King
DESCRIPTION:Souvenirs de 2017 au festival country d’Evreux\, Sur le Sentier de la country.\nNous vous donnons rendez-vous en 2018\, les 3 et 4 novembre\, pour la 8ème édition.\nRandall King arrivera directement des US avec son orchestre au complet pour un grand concert samedi\, en exclusivité française.\nStages de danse (avec Jean-Christophe Chariwe)\, concert des Ranch House Favorites (western swing) et des Rockin’Chairs\, bal CD seront également au programme du samedi. Dimanche\, les Hillbilly Rockers assureront la partie live\, en alternance avec des stages de danse et des bals CD. Le tout animé par DJ Jean-Chri.\nProgramme des 2 journées et réservations (par chèque\, virement ou CB) sur le site du festival : www.festival-country-evreux.fr \nTeaser du festival : https://youtu.be/IyDGK-hnVWw \nInvitation des artistes : https://youtu.be/gVfjkaHLkGk
URL:https://countrydancecompany.com/event/8eme-edition-randall-king/
LOCATION:27180 Saint Sebastien de Morsent\, 12 Rue Léo Lagrange\, Saint Sebastian de morsent\, 27180\, France
ORGANIZER;CN="Chantal Terrieres":MAILTO:président@aeplesentier.fr
END:VEVENT
BEGIN:VEVENT
DTSTART;TZID=Europe/Zurich:20181104T140000
DTEND;TZID=Europe/Zurich:20181104T170000
DTSTAMP:20260421T005545
CREATED:20181031T153539Z
LAST-MODIFIED:20181031T153656Z
UID:30527-1541340000-1541350800@countrydancecompany.com
SUMMARY:Bal d'Automne Blue Rodéo Dancer (74)
DESCRIPTION:HELLO COWBOYS AND COUNTRY GIRLS \nLes BLUE RODEO DANCERS de Perrignier (74) Organise leur bal d’Automne\naux Couleurs d’Halloween LE DIMANCHE 04 NOVEMBRE (Affiche ci-jointe)\nBal Au Profit du Téléthon. VIDE GRENIER COUNTRY(infos ci-joint)\nVenez nous rejoindre pour partager Danses et Musiques COUNTRY\nPensez à réserver vos tables\, et à apporter vos clés USB. \nRenseignements et réservations : bluerodeodancers.com\nNadège 06 74 87 48 56 – bluerodeodancers-sheriff@orange.fr\nPlay list (en pièce jointe)
URL:https://countrydancecompany.com/event/bal-dautomne-blue-rodeo-dancer-74/
LOCATION:Perrignier\, Perrignier\, 74550\, France
END:VEVENT
BEGIN:VEVENT
DTSTART;TZID=Europe/Zurich:20181110T203000
DTEND;TZID=Europe/Zurich:20181110T233000
DTSTAMP:20260421T005545
CREATED:20181031T154628Z
LAST-MODIFIED:20181031T154628Z
UID:30532-1541881800-1541892600@countrydancecompany.com
SUMMARY:Chicken Freid pour un concert de musique country à la salle des fêtes de Gex
DESCRIPTION:Bonjour\,\nJe viens vers vous afin de vous informer que nous avons le plaisir de recevoir le samedi 10 novembre prochain le groupe Chicken Freid pour un concert de musique country à la salle des fêtes de Gex à 20h30.\nJe vous ferai parvenir notre flyer en jpeg très prochainement.\nJe reste à votre disposition pour toute information complémentaire.\nBien cordialement\,\nAmandine Vantard\nResponsable de la culture\, des évènements et des associations \nMairie de Gex\nB.P. 407\n01174 GEX Cedex\nTél : 04 50 42 63 29 / 07 75 11 37 21 \nresponsable.culturel@ville-gex.fr\nwww.ville-gex.fr
URL:https://countrydancecompany.com/event/chicken-freid-pour-un-concert-de-musique-country-a-la-salle-des-fetes-de-gex/
LOCATION:Gex\, Salle des fêtes\, Gex\, 01170
END:VEVENT
BEGIN:VEVENT
DTSTART;VALUE=DATE:20181118
DTEND;VALUE=DATE:20181120
DTSTAMP:20260421T005545
CREATED:20181031T152259Z
LAST-MODIFIED:20181031T152259Z
UID:30523-1542520800-1542607199@countrydancecompany.com
SUMMARY:Téléthon Country River Saone
DESCRIPTION:Hello\, Danseurs et Danseuses\,\nnous vous attendons avec joie\nle dimanche 18 novembre 2018\nà la Salle de Fêtes de Sennecé les Mâcon\n(centre ville – derrière la mairie)\npour notre traditionnel BAL TELETHON.\nChaque année\, vous êtes nombreux (ses) à nous rejoindre\,\nfaut pas perdre cette habitude.\nAmicalement vôtre.\nCountry River Saone\nCRS – Programme Bal Telethon 2018
URL:https://countrydancecompany.com/event/telethon-country-river-saone/
LOCATION:Macon\, Macon\, France
END:VEVENT
BEGIN:VEVENT
DTSTART;VALUE=DATE:20181124
DTEND;VALUE=DATE:20181126
DTSTAMP:20260421T005545
CREATED:20181116T081228Z
LAST-MODIFIED:20181116T081228Z
UID:30586-1543039200-1543125599@countrydancecompany.com
SUMMARY:Country Night 2ème Edition (69270)
DESCRIPTION:Programme : \n \nPlaylist : \n \n\nMail pour réservation :\n\njones@le-complexe.com
URL:https://countrydancecompany.com/event/country-night-2eme-edition-69270/
LOCATION:69270 Couzon au mont d’Or\, Couzon au Mont d'Or\, 69270\, France
END:VEVENT
BEGIN:VEVENT
DTSTART;TZID=Europe/Zurich:20181124T140000
DTEND;TZID=Europe/Zurich:20181124T190000
DTSTAMP:20260421T005545
CREATED:20181031T155125Z
LAST-MODIFIED:20181031T155125Z
UID:30535-1543068000-1543086000@countrydancecompany.com
SUMMARY:Club Eveux - Après-midi Country
DESCRIPTION:Bonjour à tous \nLe country Club Eveux organise un après-midi Country Line dance le samedi 24 novembre 2018 de 14h à 19h à la salle Claude Terrasse de l’Arbresle\nCet après-midi sera suivi d’un concert avec le groupe Pop Rock Undercover \nTous les bénéfices de cette journée seront reversés au profit de l’ONG LACIM pour la construction d’un puits dans un village au Niger.\nAprès-midi Line dance entrée 7€ – concert Undercover 10€ – line dance + concert Undercover 12€ \nTout renseignement pour réserver sur l’affiche\, si vous souhaitez réserver vous pouvez envoyer vos chèques à l’ordre de LACIM à l’adresse suivante : Marie et Pascal Di Mauro 40 rue de l’étoile 69210 Eveux\nCi-joint l’affiche \nMerci de venir nombreux pour une belle cause car l’eau c’est la vie \nMerci de relayer l’information sur vos sites à vos amis. \nBien cordialement\nMarie-Christine Country Club Eveux (69210)\nSite Country Club Eveux et Facebook Country Club Eveux\net Groupe Facebook ouvert uniquement pour les adhérents du CCEveux\nCCEveux (69210) Informations – Sorties – organisation – covoiturage
URL:https://countrydancecompany.com/event/club-eveux-apres-midi-country/
LOCATION:69219 Eveux\, Eveux\, 69210\, France
END:VEVENT
BEGIN:VEVENT
DTSTART;TZID=Europe/Zurich:20181124T200000
DTEND;TZID=Europe/Zurich:20181125T030000
DTSTAMP:20260421T005545
CREATED:20181116T081958Z
LAST-MODIFIED:20181116T082128Z
UID:30590-1543089600-1543114800@countrydancecompany.com
SUMMARY:Soirée Country et Line Dance (01 Saint-Julien-sur-Veyle)
DESCRIPTION:le samedi 24 novembre ?  un seul endroit dans l’Ain ce soir-là : Saint-Julien sur Veyle pour danser COUNTRY !\n\nPensez à réserver  et NOUS COMMENCONS A VINGT HEURES \n\nMerci de nous informer de votre venue  pour une bonne organisation.\ncomme chaque année\, limitation à 80/90 danseurs pour un bon confort\npensez à amener vos clés usb pour les danses à la demande.\nnous sommes entre Macon\, Villefranche et Bourg en Bresse.\n\nAFFICHE ET LISTE des DANSES :\n 
URL:https://countrydancecompany.com/event/soiree-country-et-line-dance-01-saint-julien-sur-veyle/
LOCATION:01540 Saint-Julien-sur-Veyle\, Saint-Julien-sur-Veyle\, 01540\, France
END:VEVENT
END:VCALENDAR