BEGIN:VCALENDAR
VERSION:2.0
PRODID:-//Country Dance Company - ECPv6.15.17.1//NONSGML v1.0//EN
CALSCALE:GREGORIAN
METHOD:PUBLISH
X-WR-CALNAME:Country Dance Company
X-ORIGINAL-URL:https://countrydancecompany.com
X-WR-CALDESC:Évènements pour Country Dance Company
REFRESH-INTERVAL;VALUE=DURATION:PT1H
X-Robots-Tag:noindex
X-PUBLISHED-TTL:PT1H
BEGIN:VTIMEZONE
TZID:Europe/Zurich
BEGIN:DAYLIGHT
TZOFFSETFROM:+0100
TZOFFSETTO:+0200
TZNAME:CEST
DTSTART:20170326T010000
END:DAYLIGHT
BEGIN:STANDARD
TZOFFSETFROM:+0200
TZOFFSETTO:+0100
TZNAME:CET
DTSTART:20171029T010000
END:STANDARD
BEGIN:DAYLIGHT
TZOFFSETFROM:+0100
TZOFFSETTO:+0200
TZNAME:CEST
DTSTART:20180325T010000
END:DAYLIGHT
BEGIN:STANDARD
TZOFFSETFROM:+0200
TZOFFSETTO:+0100
TZNAME:CET
DTSTART:20181028T010000
END:STANDARD
BEGIN:DAYLIGHT
TZOFFSETFROM:+0100
TZOFFSETTO:+0200
TZNAME:CEST
DTSTART:20190331T010000
END:DAYLIGHT
BEGIN:STANDARD
TZOFFSETFROM:+0200
TZOFFSETTO:+0100
TZNAME:CET
DTSTART:20191027T010000
END:STANDARD
END:VTIMEZONE
BEGIN:VEVENT
DTSTART;VALUE=DATE:20180901
DTEND;VALUE=DATE:20180904
DTSTAMP:20260421T034230
CREATED:20180610T152918Z
LAST-MODIFIED:20180610T153039Z
UID:30112-1535781600-1535954399@countrydancecompany.com
SUMMARY:Festival Fest & Legends
DESCRIPTION:Amis de la country bonjour ! \nLa première édition du Fest & Legends aura lieu les 1er et 2 septembre à l’Elispace de Beauvais. \nAu programme : de la danse country\, des stands\, des expositions\, 5 concerts (The Roving Seats\, The Partners\, Ian Scott…) et surtout la venue exceptionnelle de Nathan Carter pour la deuxième fois en France à ne pas rater ! \nVous êtes une association dédiée à la danse country et c’est pourquoi nous vous réservons une offre spéciale pour vos commandes de billets. Vous trouverez ci-joint les modalités de cette offre ainsi que l’affiche de notre festival. \nRejoignez-nous pour un weekend de folie ! \nL’équipe du Fest & Legends
URL:https://countrydancecompany.com/event/festival-fest-legends/
LOCATION:Beauvais\, Beauvais (60)\, France
END:VEVENT
BEGIN:VEVENT
DTSTART;TZID=Europe/Zurich:20180901T140000
DTEND;TZID=Europe/Zurich:20180901T233000
DTSTAMP:20260421T034230
CREATED:20180811T145550Z
LAST-MODIFIED:20180811T145753Z
UID:30352-1535810400-1535844600@countrydancecompany.com
SUMMARY:Courpière Country club - Bal
DESCRIPTION:COURPIERE COUNTRY CLUB organise\, pour la 7ème année\, un BAL COUNTRY & LINE DANCE « SPECIAL RENTREE ». Cette année nous seront vraiment à la rentrée : \n  \nSamedi 1er septembre 2018 à Courpière (63) \nSalle d’Animation (place de la Mairie) \n  \nSi vous avez envie de vous dégourdir les pieds après un été de farniente ou de festival\, passer un moment entre amis et vous divertir\, alors \nVenez nous rejoindre pour cette journée de révisions basée sur   \n« LES DIFFERENTS POTS COMMUNS D’AUVERGNE» \nà partir de 14h et jusque minuit avec une interruption entre 19h et 20h pour se restaurer \nBal de 14h à 19h ou de 20h à minuit 6 € sinon la journée complète 10 € \n  \nRESERVATIONS VIVEMENT CONSEILLEES – DANS LA LIMITES DES PLACES DISPONIBLES \nMERCI DE VOTRE COMPREHENSION. \n  \nUne buvette sera à votre disposition avec des Hot Dog\, des gâteaux et des boissons \nNourriture et boissons personnelles interdites. Merci d’avance. \n  \nCi joint \n\nle flyer de la journée\nla playlist (attention 2 pages – suivre les numéros)\nle bulletin de réservation\n\n  \nMERCI DE FAIRE PASSER L’INFO ….. \n  \nRetrouvez toutes ces informations et celles des autres clubs sur notre site : http://courpierecountry.jimdo.com. \nN’hésitez pas à nous envoyer vos infos le plus rapidement possible pour éviter les chevauchements \n  \nMerci à tous d’avoir été aussi nombreux\, la saison dernière\, à suivre nos manifestations. \nAu plaisir de vous retrouvez aussi nombreux cette saison. \nBE HAPPY\, BE COUNTRY \n  \nToute l’équipe de Courpiere Country Club \nTerre Rouge 63520 St Dier d’Auvergne \n06.67.27.01.77 \ncourpierecountry@gmail.com \nhttp://courpierecountry.jimdo.com \n2 \n2018-09 FICHE INSCRIPTION BAL RENTREE
URL:https://countrydancecompany.com/event/courpiere-country-club-bal/
LOCATION:Courpière
CATEGORIES:Soirée CD
END:VEVENT
BEGIN:VEVENT
DTSTART;TZID=Europe/Zurich:20180915T190000
DTEND;TZID=Europe/Zurich:20180915T233000
DTSTAMP:20260421T034230
CREATED:20180811T151414Z
LAST-MODIFIED:20180811T151414Z
UID:30363-1537038000-1537054200@countrydancecompany.com
SUMMARY:Soirée de rentrée "Révisions"
DESCRIPTION:Playlist
URL:https://countrydancecompany.com/event/soiree-de-rentree-revisions/
LOCATION:Mureils\, France
END:VEVENT
BEGIN:VEVENT
DTSTART;TZID=Europe/Zurich:20180922T180000
DTEND;TZID=Europe/Zurich:20180922T233000
DTSTAMP:20260421T034230
CREATED:20180610T153921Z
LAST-MODIFIED:20180610T153921Z
UID:30121-1537639200-1537659000@countrydancecompany.com
SUMMARY:Bal Artemare le 22 septembre 2018
DESCRIPTION:Bonjour\, \nLe 22 septembre 2018 à partir de 18h\, nous organisons un repas concert avec Jack Nichols. \nJe vous ferai passer le bulletin de réservation et la playlist dès finalisation.\nVous pouvez dès à présent réserver votre place. \nMerci de diffuser à vos contacts. \nA très bientôt. \nNathalie\nSecrétaire des Mustangs\nTel ; 07 77 38 11 51 \nhttp://lesmustangsartemare01.e-monsite.com
URL:https://countrydancecompany.com/event/bal-artemare-le-22-septembre-2018/
LOCATION:Artemare\, Artemare\, France
END:VEVENT
BEGIN:VEVENT
DTSTART;TZID=Europe/Zurich:20180922T190000
DTEND;TZID=Europe/Zurich:20180922T220000
DTSTAMP:20260421T034230
CREATED:20180723T100407Z
LAST-MODIFIED:20180723T100407Z
UID:30230-1537642800-1537653600@countrydancecompany.com
SUMMARY:Les Chicken Fried en Concert à Geyssans
DESCRIPTION:
URL:https://countrydancecompany.com/event/les-chicken-fried-en-concert-a-geyssans/
LOCATION:Salle des Fêtes de Geyssans\, Geyssans\, 26750\, France
CATEGORIES:Concert
END:VEVENT
END:VCALENDAR