BEGIN:VCALENDAR
VERSION:2.0
PRODID:-//Country Dance Company - ECPv6.15.17.1//NONSGML v1.0//EN
CALSCALE:GREGORIAN
METHOD:PUBLISH
X-WR-CALNAME:Country Dance Company
X-ORIGINAL-URL:https://countrydancecompany.com
X-WR-CALDESC:Évènements pour Country Dance Company
REFRESH-INTERVAL;VALUE=DURATION:PT1H
X-Robots-Tag:noindex
X-PUBLISHED-TTL:PT1H
BEGIN:VTIMEZONE
TZID:Europe/Zurich
BEGIN:DAYLIGHT
TZOFFSETFROM:+0100
TZOFFSETTO:+0200
TZNAME:CEST
DTSTART:20170326T010000
END:DAYLIGHT
BEGIN:STANDARD
TZOFFSETFROM:+0200
TZOFFSETTO:+0100
TZNAME:CET
DTSTART:20171029T010000
END:STANDARD
BEGIN:DAYLIGHT
TZOFFSETFROM:+0100
TZOFFSETTO:+0200
TZNAME:CEST
DTSTART:20180325T010000
END:DAYLIGHT
BEGIN:STANDARD
TZOFFSETFROM:+0200
TZOFFSETTO:+0100
TZNAME:CET
DTSTART:20181028T010000
END:STANDARD
BEGIN:DAYLIGHT
TZOFFSETFROM:+0100
TZOFFSETTO:+0200
TZNAME:CEST
DTSTART:20190331T010000
END:DAYLIGHT
BEGIN:STANDARD
TZOFFSETFROM:+0200
TZOFFSETTO:+0100
TZNAME:CET
DTSTART:20191027T010000
END:STANDARD
END:VTIMEZONE
BEGIN:VEVENT
DTSTART;TZID=Europe/Zurich:20180804T100000
DTEND;TZID=Europe/Zurich:20180804T180000
DTSTAMP:20260421T050811
CREATED:20180601T134039Z
LAST-MODIFIED:20180804T153151Z
UID:30079-1533376800-1533405600@countrydancecompany.com
SUMMARY:Fête de la Batteuse - Cessy
DESCRIPTION:
URL:https://countrydancecompany.com/event/fete-de-la-batteuse-cessy/
LOCATION:Cessy\, Rue de la Mairie\, Cessy\, 01170\, France
END:VEVENT
BEGIN:VEVENT
DTSTART;VALUE=DATE:20180824
DTEND;VALUE=DATE:20180828
DTSTAMP:20260421T050811
CREATED:20180811T101903Z
LAST-MODIFIED:20180811T102359Z
UID:30346-1535090400-1535349599@countrydancecompany.com
SUMMARY:10 ème Festival Country de Tarentaise
DESCRIPTION:Playlist Albertville-Samedi\nPlaylist Albertville-Dimanche \n  
URL:https://countrydancecompany.com/event/10-eme-festival-country-de-tarentaise/
LOCATION:Alberville 73200\, 73200\, France
CATEGORIES:Concert
END:VEVENT
BEGIN:VEVENT
DTSTART;VALUE=DATE:20180825
DTEND;VALUE=DATE:20180828
DTSTAMP:20260421T050811
CREATED:20180517T093344Z
LAST-MODIFIED:20180610T151129Z
UID:29975-1535176800-1535349599@countrydancecompany.com
SUMMARY:WEEK-END AMERICAN DAY - 25 & 26 AOUT 2018 - SALLE DES GRIOTTONS 71250 CLUNY
DESCRIPTION:Bonjour à tous\,\n\n\n\n\nLes 25 & 26 Août 2018 se tiendra un grand WEEK-END « Américan Day » à\nLa salle des Griottons 71250 CLUNY\nNous vous ouvrons les portes de La Bourgogne du Sud cet été avant la reprise de la saison 2018/2019 :\n Deux jours de DANSE\, deux jours de MUSIQUE\, deux jours de PASSION\, deux jours D’ÉCLATEMENT avec DES ARTISTES et de LA DANSE en continue :\n\n\n\n\nMarie-Claude GIL chorégraphe et marraine de l’événement.\n\nWest Gones\, groupe country venant de la région Lyonnaise.\n\nLilly WEST\, chanteuse\, musicienne venant de la région Auvergne\n\nEt les parrains de l’événement LES MARIOTTI BROTHERS.\n\nPASS 1 jour : 13 euros\nPASS 2 jours : 22 euros\nTOUT COMPRIS\n Tout cela coordonné par moi-même et mon équipe.\n\n Attention la salle ayant une capacité de 400 personnes maximum\, les réservations sont recommandées pour une bonne gestion du sas sécurité.\n\n\nToutes les infos ainsi que le bulletin d’inscriptions concernant notre grand week-end Américan Day des 25 & 26 Août 2018 à CLUNY (71250) sont sur le site yanimco.jimdofree.com/\n\nMerci d’informer l’ensemble de vos C.A\, adhérents et entourages sur cet événement.\n\n\n\nPour les conjoints ne dansant pas\, vous pourrez profiter d’un paysage entres VIGNES et NATURE. La faune et la flore seront vous guider jusqu’à CLUNY ville charmante par son côté typique.   \n\n\n\n\n\n\nAu plaisir de profiter\, avec tous\, de ce superbe week-end de danse.\n\nBien à vous\,\nYannick\nFlyers weekend américanday
URL:https://countrydancecompany.com/event/week-end-american-day-25-26-aout-2018-salle-des-griottons-71250-cluny/
LOCATION:La salle des Griottons 71250 CLUNY\, La Salle des Griottons\, Cluny\, 71250\, France
ORGANIZER;CN="Yannick LACROIX":MAILTO:yanimetco@gmail.com
END:VEVENT
BEGIN:VEVENT
DTSTART;TZID=Europe/Zurich:20180826T140000
DTEND;TZID=Europe/Zurich:20180826T180000
DTSTAMP:20260421T050811
CREATED:20180723T100839Z
LAST-MODIFIED:20180726T080610Z
UID:30233-1535292000-1535306400@countrydancecompany.com
SUMMARY:Pass'sport & Forum des Associations
DESCRIPTION:Journée PassSport & Forum des Associations : \n \nHoraires démo: \nProgrammes :
URL:https://countrydancecompany.com/event/passsport-forum-des-associations/
LOCATION:Cessy\, Cessy\, 01170\, France
END:VEVENT
END:VCALENDAR