BEGIN:VCALENDAR
VERSION:2.0
PRODID:-//Country Dance Company - ECPv6.15.17.1//NONSGML v1.0//EN
CALSCALE:GREGORIAN
METHOD:PUBLISH
X-WR-CALNAME:Country Dance Company
X-ORIGINAL-URL:https://countrydancecompany.com
X-WR-CALDESC:Évènements pour Country Dance Company
REFRESH-INTERVAL;VALUE=DURATION:PT1H
X-Robots-Tag:noindex
X-PUBLISHED-TTL:PT1H
BEGIN:VTIMEZONE
TZID:Europe/Zurich
BEGIN:DAYLIGHT
TZOFFSETFROM:+0100
TZOFFSETTO:+0200
TZNAME:CEST
DTSTART:20170326T010000
END:DAYLIGHT
BEGIN:STANDARD
TZOFFSETFROM:+0200
TZOFFSETTO:+0100
TZNAME:CET
DTSTART:20171029T010000
END:STANDARD
BEGIN:DAYLIGHT
TZOFFSETFROM:+0100
TZOFFSETTO:+0200
TZNAME:CEST
DTSTART:20180325T010000
END:DAYLIGHT
BEGIN:STANDARD
TZOFFSETFROM:+0200
TZOFFSETTO:+0100
TZNAME:CET
DTSTART:20181028T010000
END:STANDARD
BEGIN:DAYLIGHT
TZOFFSETFROM:+0100
TZOFFSETTO:+0200
TZNAME:CEST
DTSTART:20190331T010000
END:DAYLIGHT
BEGIN:STANDARD
TZOFFSETFROM:+0200
TZOFFSETTO:+0100
TZNAME:CET
DTSTART:20191027T010000
END:STANDARD
END:VTIMEZONE
BEGIN:VEVENT
DTSTART;TZID=Europe/Zurich:20180701T140000
DTEND;TZID=Europe/Zurich:20180701T190000
DTSTAMP:20260421T063736
CREATED:20180610T144326Z
LAST-MODIFIED:20180610T152151Z
UID:30091-1530453600-1530471600@countrydancecompany.com
SUMMARY:CONCERT DANSANT PIERRE LORRY AVEC DJ MARC DUQUESNE
DESCRIPTION:Bonjour à tous\,\n\nNous vous accueillerons avec le plus grand plaisir le\n\nDIMANCHE 1er JUILLET 2018 à 14h00\nA la salle des fêtes de PONT DE VEYLE (01)\nPour un après-midi country line dance avec DJ MARC DUQUESNE et PIERRE LORRY\n\nVous trouverez en pj les différents fichiers\, affiche\, playlists et le bulletin d’inscriptions.\n\nATTENTION INSCRIPTIONS OBLIGATOIRES AVANT LE 23 JUIN 2018.\n\nAu plaisir de vous recevoir.\nBien à vous.\nYannick pour Y’anim’ & Co
URL:https://countrydancecompany.com/event/concert-dansant-pierre-lorry-avec-dj-marc-duquesne/
LOCATION:PONT DE VEYLE (01)\, Salle des fêtes\, PONT DE VEYLE (01)\, France
END:VEVENT
BEGIN:VEVENT
DTSTART;VALUE=DATE:20180705
DTEND;VALUE=DATE:20180710
DTSTAMP:20260421T063736
CREATED:20180524T141929Z
LAST-MODIFIED:20180524T142123Z
UID:30019-1530770400-1531115999@countrydancecompany.com
SUMMARY:American Festival Samoëns 74
DESCRIPTION:Le Festival de Samoëns c’est aussi un grand marché Américain avec de nombreux stands \nLes animations sont nombreuses et les concerts sont gratuits. Vous pouvez vous initier à la danse country avec l’association « Hooked on Country »\, et danser avec DJ Marc qui ouvrira le Samoëns American Festival 2018 par un bal country endiablé en plein cœur de l’un des plus beaux villages de Haute-Savoie.  \nSur le site internet du festival\, sont rassemblés tous les détails et documents nécessaires\, photos\, vidéos\, réservations\, inscriptions pour les stages de danse. (Cliquez sur l’affiche du festival) \nToutes les inscriptions se font auprès de l’Office du Tourisme\, ainsi que les réservations pour votre séjour. \n \nTél : 04 50 34 40 28 – Samoëns Village 74340 Samoëns. \nSuivez-nous sur Facebook \nSamoëns en été​​​​​​​ \n 
URL:https://countrydancecompany.com/event/american-festival-samoens-74/
LOCATION:Samoens\, Samoëns\, 74340\, France
END:VEVENT
BEGIN:VEVENT
DTSTART;VALUE=DATE:20180706
DTEND;VALUE=DATE:20180709
DTSTAMP:20260421T063736
CREATED:20180617T164813Z
LAST-MODIFIED:20180617T164853Z
UID:30158-1530856800-1531029599@countrydancecompany.com
SUMMARY:8ème FESTIVAL d'HEREPIAN (34).
DESCRIPTION:De même\, il est encore temps de s’inscrire au WORKSHOP de ROY VERDONK : 5 heures d’initiation avec un chorégraphe de renommée mondiale à l’origine de nombreuses danses. Feuillet d’inscription en pièce jointe ou réservation dernière minute par téléphone. \nL’entrée du FESTIVAL est toujours libre et les bénévoles de l’association seront là pour vous restaurer et vous désaltèrer
URL:https://countrydancecompany.com/event/8eme-festival-dherepian-34/
END:VEVENT
BEGIN:VEVENT
DTSTART;VALUE=DATE:20180713
DTEND;VALUE=DATE:20180717
DTSTAMP:20260421T063736
CREATED:20180610T145535Z
LAST-MODIFIED:20180610T151933Z
UID:30098-1531461600-1531720799@countrydancecompany.com
SUMMARY:Country rock western festival - courpiere (63) juillet 2018
DESCRIPTION:Chers amis danseurs\, et non danseurs \nComme chaque année de 2008\, Nous organisons notre festival Country Rock Western à Courpière (63). \nDepuis l’an dernier\, ce sera les \nVendredi 13\, samedi 14 et dimanche 15 juillet 2018. \nPensez\, dès à présent\, à réserver vos dates !!!! \nQuelques infos : \nENTREE GRATUITE DURANT 3 JOURS sur le site extérieur (sauf pour les concerts en salle). \nAu programme en journée et gratuit : \n\ndes démonstrations et Show de danses avec les groupes « Rebel Dancers » des Pyrénées (64)\, « Travel West » des Martes (63)\, « Sidh » de la région Lyonnaise (69) et « Rebel’s Girl »» de Provence\ndes démonstrations et initiations pour tous (petits et grands) au football américain\nDes stages et initiations de danses avec Guerric Auville (Style Country et Line Dance) et Salomé Joux (Style Catalan)\nDe la danses Country et line danse pour tous en après midi (parquet couvert) – Playlist et danses à la demande\nDes baptêmes en Harley Davidson\nDes expositions voitures et motos\nUn village Amérindien\nDes exposants et commerçants\, etc….\n\n  \nEt le programme de vos soirées : \nVENDREDI 13/07 : \n\nRepas-concert avec Pierre Lorry (voir le détail sur la brochure)\nBal CD Country et line dance avec Marie Laure en extérieur – GRATUIT\nConcert dansant avec l’Orchestre Y’a Qu’a DANSER. Pour une grande soirée Années 80. Ils vous feront chanter et danser les plus grand tubes des années DISCO à nos jours.\n\nRESERVATION VIVEMENT CONSEILLEE – en salle 10€ \nSAMEDI 14/07 : \n\nRepas-concert avec Bill Boschung (voir le détail sur la brochure)\nGrand Bal Populaire de la FETE NATIONALE du 14 JUILLET avec le Groupe MIAMI en extérieur – GRATUIT\nConcert dansant avec le groupe Country BACKWEST et leur playlist 100% danseurs.\n\nRESERVATION VIVEMENT CONSEILLEE – en salle 12€ \nDIMANCHE 15/07 : \n\nRepas-concert avec Pierre Lorry (voir le détail sur la brochure)\n\n  \nATTENTION !!!! \nPour les REPAS-CONCERT et CONCERTS\, nous vous invitons à réserver pour bénéficier des TARIFS PRE-VENTE \nMais aussi car les places sont limitées !!! \nMerci de faire passer l’info à vos adhérents et amis \n  \nOuverture des réservations pour les Repas-concerts et Concerts (Attention les préventes s’arrêtent le 7 juillet)\, alors n’attendez pas !!! \n  \nProgramme et Tarifs et bulletin de réservation ci-joints ou à télécharger sur notre site  \nLes playlist des après midi et soirées Bals et concert Country et Line Dance en téléchargement fin juin. \n(http://courpierecountry.jimdo.com) \n  \nVous trouverez également sur notre site toutes les informations et organisations des autres clubs de la région Auvergne. \nAu plaisir de vous retrouvez nombreux \nToute l’équipe \nCourpiere Country Club – Terre Rouge 63520 St Dier d’Auvergne \n06.67.27.01.77 – s.l.e@aliceadsl.fr – http://courpierecountry.jimdo.com
URL:https://countrydancecompany.com/event/country-rock-western-festival-courpiere-63-juillet-2018/
LOCATION:Courpière (63)\, Courpière (63)\, France
END:VEVENT
BEGIN:VEVENT
DTSTART;VALUE=DATE:20180713
DTEND;VALUE=DATE:20180717
DTSTAMP:20260421T063736
CREATED:20180610T153532Z
LAST-MODIFIED:20180610T153553Z
UID:30116-1531461600-1531720799@countrydancecompany.com
SUMMARY:Festival Country Chancy
DESCRIPTION:  \nNous organisons notre deuxième Festival Country les 13\, 14 et 15 juillet 2018 sur la Commune de Chancy\, en faveur des personnes handicapées. \nNotre Festival propose à nos passionné-e-s de Country et de Far West un village Western où vous trouverez des exposants\, des animations pour les enfants et les adultes. Un camp de colons et de trappeurs\, un village d’indiens et un Fort US. Restauration\, pâtisseries et un magnifique Saloon où de magnifiques hôtesses seront heureuses de vous servir votre boisson préférée. \nConcerts gratuits : \nPaul Mac Bonvin le samedi dès 21h30 \nVendredi Claudia & Bluebird CMB dès 20h \nA partir de 22h15\, le Blue Night Country \nSamedi dès 11h Chess’CO \nsur notre scène extérieure installée dans le Camp des Colons \nDès 19h30 Alex Klein & Las Vegas \nPaul Mac Bonvin dès 21h30 \nDimanche dès 11h The Ackermans \nsur notre scène extérieure \nPlusieurs animations\, cours d’initiation de Line Dance\, jeux pour les enfants. Des cowboys\, le shérif et son staff protégeant les visiteurs des hors-la-loi… Un Barber shop pour une petite taille de barbe ou rafraîchir sa coupe de cheveux dans ce lieu typique du Far West. Un Studio photos pour partir avec un souvenir en famille avec des ami-e-s\, un Atelier de couture proposant de magnifiques robes de cette époque. \nRendez-vous dès le 13 juillet au Far West de la Suisse à la Salle Communale de Chancy\, chemin de la Ruette 7\, 1284 Chancy (Genève). \nOuverture des portes le vendredi soir dès 18h30\, le samedi et le dimanche dès 10h00. \nMerci de diffuser notre affiche ci-jointe et d’informer vos membres de ce qui précède. \n  \n  \nAssociation BalkaFesti \nPierre Kaech \nPatricia Balmer Kaech \nChantal Dubelly
URL:https://countrydancecompany.com/event/festival-country-chancy/
LOCATION:Chancy\, Chancy\, Suisse
END:VEVENT
BEGIN:VEVENT
DTSTART;TZID=Europe/Zurich:20180715T110000
DTEND;TZID=Europe/Zurich:20180715T133000
DTSTAMP:20260421T063736
CREATED:20180612T125306Z
LAST-MODIFIED:20180612T125306Z
UID:30142-1531652400-1531661400@countrydancecompany.com
SUMMARY:The Country Expression
DESCRIPTION:The Country Expression\n\n\nCountry Expression est un groupe de musique au répertoire assez large et varié\, alliant  Country\, Country Rock\,  Rock and Roll\, RockaBilly\, Texas Blues\, ZZ Top\, avec des compositions originales. \nLa première formation  « The Country Expression »  est née en Angleterre en 1968 et rencontre un certain succès  dans le Sud Est du pays. \nEn 1970 Terry Nelson se sépare du groupe pour jouer en Italie avec le groupe Rock  « Grumpy » \nEn 1972 Terry arrive en Suisse et forme The Country Expression version Suisse. \nLe groupe s’est produit dans plusieurs festivals de Country\, dont les scènes de Festyv’été d’Yverdon et les Podiums d’ Orbe\n\n\n \n\n\nLes membres du groupe \n\n\n\nTerry Nelson\nGuitares et chant\n\n\nMarc Ferrario\nClaviers\, chant et harmonica\n\n\nDominique Porchet\nGuitares et chant\n\n\nFred Schwabb Bass\nGuitare et chant\n\n\nEric Fitzet\nBatterie
URL:https://countrydancecompany.com/event/the-country-expression/
LOCATION:Place des Marronniers – Nyon\, Place des Marronniers\, Nyon\, Suisse
END:VEVENT
BEGIN:VEVENT
DTSTART;TZID=Europe/Zurich:20180720T180000
DTEND;TZID=Europe/Zurich:20180721T010000
DTSTAMP:20260421T063736
CREATED:20180723T095821Z
LAST-MODIFIED:20180723T095821Z
UID:30225-1532109600-1532134800@countrydancecompany.com
SUMMARY:SOIREES COUNTRY LAC DE LA TERRASSE
DESCRIPTION:
URL:https://countrydancecompany.com/event/soirees-country-lac-de-la-terrasse/
LOCATION:Restaurant du Lac\, 1300 Route du Lac\, La Terrasse\, 38660\, France
END:VEVENT
BEGIN:VEVENT
DTSTART;TZID=Europe/Zurich:20180727T180000
DTEND;TZID=Europe/Zurich:20180728T010000
DTSTAMP:20260421T063736
CREATED:20180723T095636Z
LAST-MODIFIED:20180723T095636Z
UID:30228-1532714400-1532739600@countrydancecompany.com
SUMMARY:SOIREE COUNTRY LAC DE LA TERRASSE
DESCRIPTION:
URL:https://countrydancecompany.com/event/soiree-country-lac-de-la-terrasse/
LOCATION:Restaurant du Lac\, 1300 Route du Lac\, La Terrasse\, 38660\, France
END:VEVENT
END:VCALENDAR