BEGIN:VCALENDAR
VERSION:2.0
PRODID:-//Country Dance Company - ECPv6.15.17.1//NONSGML v1.0//EN
CALSCALE:GREGORIAN
METHOD:PUBLISH
X-WR-CALNAME:Country Dance Company
X-ORIGINAL-URL:https://countrydancecompany.com
X-WR-CALDESC:Évènements pour Country Dance Company
REFRESH-INTERVAL;VALUE=DURATION:PT1H
X-Robots-Tag:noindex
X-PUBLISHED-TTL:PT1H
BEGIN:VTIMEZONE
TZID:Europe/Zurich
BEGIN:DAYLIGHT
TZOFFSETFROM:+0100
TZOFFSETTO:+0200
TZNAME:CEST
DTSTART:20180325T010000
END:DAYLIGHT
BEGIN:STANDARD
TZOFFSETFROM:+0200
TZOFFSETTO:+0100
TZNAME:CET
DTSTART:20181028T010000
END:STANDARD
BEGIN:DAYLIGHT
TZOFFSETFROM:+0100
TZOFFSETTO:+0200
TZNAME:CEST
DTSTART:20190331T010000
END:DAYLIGHT
BEGIN:STANDARD
TZOFFSETFROM:+0200
TZOFFSETTO:+0100
TZNAME:CET
DTSTART:20191027T010000
END:STANDARD
BEGIN:DAYLIGHT
TZOFFSETFROM:+0100
TZOFFSETTO:+0200
TZNAME:CEST
DTSTART:20200329T010000
END:DAYLIGHT
BEGIN:STANDARD
TZOFFSETFROM:+0200
TZOFFSETTO:+0100
TZNAME:CET
DTSTART:20201025T010000
END:STANDARD
END:VTIMEZONE
BEGIN:VEVENT
DTSTART;VALUE=DATE:20190202
DTEND;VALUE=DATE:20190205
DTSTAMP:20260420T233206
CREATED:20190123T100300Z
LAST-MODIFIED:20190123T100300Z
UID:30623-1549087200-1549259999@countrydancecompany.com
SUMMARY:Salon Country Western - Le Mans
DESCRIPTION:Bonjour à tous\,\nEn un mois\, les préventes pour le Salon Country 2019 ont explosé !\nNous sommes ravis de cet engouement qui présage un beau succès pour cette 12ème édition.\nEn attendant le programme détaillé\, nous vous invitons à écouter les artistes américains qui se produiront :\nSpeedbuggy USA :  https://www.youtube.com/watch?v=vEfTRkiVRs0\nJames House :  https://www.youtube.com/watch?v=_SH4ebR2dZQ\n \n \nAfin d’éviter une trop longue file d’attente à l’entrée\, il est encore possible d’acheter vos billets par correspondance ici\, jusqu’au 15 janvier 2019.\nTarifs d’entrée :  Samedi 10€ – Dimanche 8€\n(gratuit jusqu’à 12 ans inclus)\nPassé le 15 janvier 2019\, les billets seront en vente aux guichets du Salon le jour J.\nA très vite !\nToute l’équipe du Salon Country Western \nHoraires d’ouverture du Salon :\nSamedi 02/02/2019\, de 10h à Minuit\nDimanche 03/02/2019\, de 10h à 19h\nInfos pratiques sur le site internet du Salon\, à la rubrique « ACCES »\nhttp://saloncountrywestern.fr\nhttp://www.facebook.com/pages/Salon-Country-Western/295439427228157\nhttp://instagram.com/saloncountry\ncontact@saloncountrywestern.fr\nTél. 06 07 24 25 22 \n 
URL:https://countrydancecompany.com/event/salon-country-western-le-mans/
LOCATION:Le Mans\, Le Mans\, France
END:VEVENT
BEGIN:VEVENT
DTSTART;TZID=Europe/Zurich:20190203T140000
DTEND;TZID=Europe/Zurich:20190203T190000
DTSTAMP:20260420T233206
CREATED:20190123T110255Z
LAST-MODIFIED:20190124T132426Z
UID:30652-1549202400-1549220400@countrydancecompany.com
SUMMARY:Après-midi Country - St. Etienne de Crossey
DESCRIPTION:DIMANCHE 3  FEVRIER  2019\nAPRES-MIDI           COUNTRY\nSALLE DES FÊTES DE ST ETIENNE DE CROSSEY\nDE 14 HEURES  A  19 HEURES\nPETITE RESTAURATION SUR PLACE\nPENSER A RAPPORTER VOS CLES USB\nAffiche – DIMANCHE 3 FEVRIER 2019
URL:https://countrydancecompany.com/event/apres-midi-country-st-etienne-de-crossey/
LOCATION:Saitn Etiene de Crossay\, Saint Etienne de Crossay\, France
END:VEVENT
END:VCALENDAR