BEGIN:VCALENDAR
VERSION:2.0
PRODID:-//Country Dance Company - ECPv6.15.17.1//NONSGML v1.0//EN
CALSCALE:GREGORIAN
METHOD:PUBLISH
X-ORIGINAL-URL:https://countrydancecompany.com
X-WR-CALDESC:Évènements pour Country Dance Company
REFRESH-INTERVAL;VALUE=DURATION:PT1H
X-Robots-Tag:noindex
X-PUBLISHED-TTL:PT1H
BEGIN:VTIMEZONE
TZID:Europe/Zurich
BEGIN:DAYLIGHT
TZOFFSETFROM:+0100
TZOFFSETTO:+0200
TZNAME:CEST
DTSTART:20170326T010000
END:DAYLIGHT
BEGIN:STANDARD
TZOFFSETFROM:+0200
TZOFFSETTO:+0100
TZNAME:CET
DTSTART:20171029T010000
END:STANDARD
BEGIN:DAYLIGHT
TZOFFSETFROM:+0100
TZOFFSETTO:+0200
TZNAME:CEST
DTSTART:20180325T010000
END:DAYLIGHT
BEGIN:STANDARD
TZOFFSETFROM:+0200
TZOFFSETTO:+0100
TZNAME:CET
DTSTART:20181028T010000
END:STANDARD
BEGIN:DAYLIGHT
TZOFFSETFROM:+0100
TZOFFSETTO:+0200
TZNAME:CEST
DTSTART:20190331T010000
END:DAYLIGHT
BEGIN:STANDARD
TZOFFSETFROM:+0200
TZOFFSETTO:+0100
TZNAME:CET
DTSTART:20191027T010000
END:STANDARD
END:VTIMEZONE
BEGIN:VEVENT
DTSTART;VALUE=DATE:20181124
DTEND;VALUE=DATE:20181126
DTSTAMP:20260421T021347
CREATED:20181116T081228Z
LAST-MODIFIED:20181116T081228Z
UID:30586-1543039200-1543125599@countrydancecompany.com
SUMMARY:Country Night 2ème Edition (69270)
DESCRIPTION:Programme : \n \nPlaylist : \n \n\nMail pour réservation :\n\njones@le-complexe.com
URL:https://countrydancecompany.com/event/country-night-2eme-edition-69270/
LOCATION:69270 Couzon au mont d’Or\, Couzon au Mont d'Or\, 69270\, France
END:VEVENT
BEGIN:VEVENT
DTSTART;TZID=Europe/Zurich:20181124T140000
DTEND;TZID=Europe/Zurich:20181124T190000
DTSTAMP:20260421T021347
CREATED:20181031T155125Z
LAST-MODIFIED:20181031T155125Z
UID:30535-1543068000-1543086000@countrydancecompany.com
SUMMARY:Club Eveux - Après-midi Country
DESCRIPTION:Bonjour à tous \nLe country Club Eveux organise un après-midi Country Line dance le samedi 24 novembre 2018 de 14h à 19h à la salle Claude Terrasse de l’Arbresle\nCet après-midi sera suivi d’un concert avec le groupe Pop Rock Undercover \nTous les bénéfices de cette journée seront reversés au profit de l’ONG LACIM pour la construction d’un puits dans un village au Niger.\nAprès-midi Line dance entrée 7€ – concert Undercover 10€ – line dance + concert Undercover 12€ \nTout renseignement pour réserver sur l’affiche\, si vous souhaitez réserver vous pouvez envoyer vos chèques à l’ordre de LACIM à l’adresse suivante : Marie et Pascal Di Mauro 40 rue de l’étoile 69210 Eveux\nCi-joint l’affiche \nMerci de venir nombreux pour une belle cause car l’eau c’est la vie \nMerci de relayer l’information sur vos sites à vos amis. \nBien cordialement\nMarie-Christine Country Club Eveux (69210)\nSite Country Club Eveux et Facebook Country Club Eveux\net Groupe Facebook ouvert uniquement pour les adhérents du CCEveux\nCCEveux (69210) Informations – Sorties – organisation – covoiturage
URL:https://countrydancecompany.com/event/club-eveux-apres-midi-country/
LOCATION:69219 Eveux\, Eveux\, 69210\, France
END:VEVENT
BEGIN:VEVENT
DTSTART;TZID=Europe/Zurich:20181124T200000
DTEND;TZID=Europe/Zurich:20181125T030000
DTSTAMP:20260421T021347
CREATED:20181116T081958Z
LAST-MODIFIED:20181116T082128Z
UID:30590-1543089600-1543114800@countrydancecompany.com
SUMMARY:Soirée Country et Line Dance (01 Saint-Julien-sur-Veyle)
DESCRIPTION:le samedi 24 novembre ?  un seul endroit dans l’Ain ce soir-là : Saint-Julien sur Veyle pour danser COUNTRY !\n\nPensez à réserver  et NOUS COMMENCONS A VINGT HEURES \n\nMerci de nous informer de votre venue  pour une bonne organisation.\ncomme chaque année\, limitation à 80/90 danseurs pour un bon confort\npensez à amener vos clés usb pour les danses à la demande.\nnous sommes entre Macon\, Villefranche et Bourg en Bresse.\n\nAFFICHE ET LISTE des DANSES :\n 
URL:https://countrydancecompany.com/event/soiree-country-et-line-dance-01-saint-julien-sur-veyle/
LOCATION:01540 Saint-Julien-sur-Veyle\, Saint-Julien-sur-Veyle\, 01540\, France
END:VEVENT
END:VCALENDAR