BEGIN:VCALENDAR
VERSION:2.0
PRODID:-//Country Dance Company - ECPv6.15.17.1//NONSGML v1.0//EN
CALSCALE:GREGORIAN
METHOD:PUBLISH
X-ORIGINAL-URL:https://countrydancecompany.com
X-WR-CALDESC:Évènements pour Country Dance Company
REFRESH-INTERVAL;VALUE=DURATION:PT1H
X-Robots-Tag:noindex
X-PUBLISHED-TTL:PT1H
BEGIN:VTIMEZONE
TZID:Europe/Zurich
BEGIN:DAYLIGHT
TZOFFSETFROM:+0100
TZOFFSETTO:+0200
TZNAME:CEST
DTSTART:20170326T010000
END:DAYLIGHT
BEGIN:STANDARD
TZOFFSETFROM:+0200
TZOFFSETTO:+0100
TZNAME:CET
DTSTART:20171029T010000
END:STANDARD
BEGIN:DAYLIGHT
TZOFFSETFROM:+0100
TZOFFSETTO:+0200
TZNAME:CEST
DTSTART:20180325T010000
END:DAYLIGHT
BEGIN:STANDARD
TZOFFSETFROM:+0200
TZOFFSETTO:+0100
TZNAME:CET
DTSTART:20181028T010000
END:STANDARD
BEGIN:DAYLIGHT
TZOFFSETFROM:+0100
TZOFFSETTO:+0200
TZNAME:CEST
DTSTART:20190331T010000
END:DAYLIGHT
BEGIN:STANDARD
TZOFFSETFROM:+0200
TZOFFSETTO:+0100
TZNAME:CET
DTSTART:20191027T010000
END:STANDARD
END:VTIMEZONE
BEGIN:VEVENT
DTSTART;TZID=Europe/Zurich:20181021T133000
DTEND;TZID=Europe/Zurich:20181021T220000
DTSTAMP:20260421T033807
CREATED:20181015T094059Z
LAST-MODIFIED:20181015T094425Z
UID:30490-1540128600-1540159200@countrydancecompany.com
SUMMARY:Ambiance Country Association
DESCRIPTION: Le bureau     \nAmbiance Country\n\n69270 Couzon au Mont d’Or\nVoici la playlist pour le dimanche 21 Octobre 2018…Nous vous attendons nombreux et n’hésitez pas à venir déguiser mais ce n’est pas une obligation .Pensez à réserver\nMerci d’avance pour les partages et surtout pour votre présence ? \nA bientôt ! \n\n\nambiancecountry69@gmail.com\nhttps://ambiancecountry.jimdo.com/\nhttps://www.facebook.com/ambiancecountry/
URL:https://countrydancecompany.com/event/ambiance-country-association/
LOCATION:69270 Couzon au mont d’Or\, Couzon au Mont d'Or\, 69270\, France
END:VEVENT
END:VCALENDAR