BEGIN:VCALENDAR
VERSION:2.0
PRODID:-//Country Dance Company - ECPv6.15.17.1//NONSGML v1.0//EN
CALSCALE:GREGORIAN
METHOD:PUBLISH
X-ORIGINAL-URL:https://countrydancecompany.com
X-WR-CALDESC:Évènements pour Country Dance Company
REFRESH-INTERVAL;VALUE=DURATION:PT1H
X-Robots-Tag:noindex
X-PUBLISHED-TTL:PT1H
BEGIN:VTIMEZONE
TZID:Europe/Zurich
BEGIN:DAYLIGHT
TZOFFSETFROM:+0100
TZOFFSETTO:+0200
TZNAME:CEST
DTSTART:20170326T010000
END:DAYLIGHT
BEGIN:STANDARD
TZOFFSETFROM:+0200
TZOFFSETTO:+0100
TZNAME:CET
DTSTART:20171029T010000
END:STANDARD
BEGIN:DAYLIGHT
TZOFFSETFROM:+0100
TZOFFSETTO:+0200
TZNAME:CEST
DTSTART:20180325T010000
END:DAYLIGHT
BEGIN:STANDARD
TZOFFSETFROM:+0200
TZOFFSETTO:+0100
TZNAME:CET
DTSTART:20181028T010000
END:STANDARD
BEGIN:DAYLIGHT
TZOFFSETFROM:+0100
TZOFFSETTO:+0200
TZNAME:CEST
DTSTART:20190331T010000
END:DAYLIGHT
BEGIN:STANDARD
TZOFFSETFROM:+0200
TZOFFSETTO:+0100
TZNAME:CET
DTSTART:20191027T010000
END:STANDARD
END:VTIMEZONE
BEGIN:VEVENT
DTSTART;VALUE=DATE:20180824
DTEND;VALUE=DATE:20180828
DTSTAMP:20260421T064303
CREATED:20180811T101903Z
LAST-MODIFIED:20180811T102359Z
UID:30346-1535090400-1535349599@countrydancecompany.com
SUMMARY:10 ème Festival Country de Tarentaise
DESCRIPTION:Playlist Albertville-Samedi\nPlaylist Albertville-Dimanche \n  
URL:https://countrydancecompany.com/event/10-eme-festival-country-de-tarentaise/
LOCATION:Alberville 73200\, 73200\, France
CATEGORIES:Concert
END:VEVENT
END:VCALENDAR