BEGIN:VCALENDAR
VERSION:2.0
PRODID:-//Country Dance Company - ECPv6.15.17.1//NONSGML v1.0//EN
CALSCALE:GREGORIAN
METHOD:PUBLISH
X-ORIGINAL-URL:https://countrydancecompany.com
X-WR-CALDESC:Évènements pour Country Dance Company
REFRESH-INTERVAL;VALUE=DURATION:PT1H
X-Robots-Tag:noindex
X-PUBLISHED-TTL:PT1H
BEGIN:VTIMEZONE
TZID:Europe/Zurich
BEGIN:DAYLIGHT
TZOFFSETFROM:+0100
TZOFFSETTO:+0200
TZNAME:CEST
DTSTART:20170326T010000
END:DAYLIGHT
BEGIN:STANDARD
TZOFFSETFROM:+0200
TZOFFSETTO:+0100
TZNAME:CET
DTSTART:20171029T010000
END:STANDARD
BEGIN:DAYLIGHT
TZOFFSETFROM:+0100
TZOFFSETTO:+0200
TZNAME:CEST
DTSTART:20180325T010000
END:DAYLIGHT
BEGIN:STANDARD
TZOFFSETFROM:+0200
TZOFFSETTO:+0100
TZNAME:CET
DTSTART:20181028T010000
END:STANDARD
BEGIN:DAYLIGHT
TZOFFSETFROM:+0100
TZOFFSETTO:+0200
TZNAME:CEST
DTSTART:20190331T010000
END:DAYLIGHT
BEGIN:STANDARD
TZOFFSETFROM:+0200
TZOFFSETTO:+0100
TZNAME:CET
DTSTART:20191027T010000
END:STANDARD
END:VTIMEZONE
BEGIN:VEVENT
DTSTART;TZID=Europe/Zurich:20180701T140000
DTEND;TZID=Europe/Zurich:20180701T190000
DTSTAMP:20260421T080926
CREATED:20180610T144326Z
LAST-MODIFIED:20180610T152151Z
UID:30091-1530453600-1530471600@countrydancecompany.com
SUMMARY:CONCERT DANSANT PIERRE LORRY AVEC DJ MARC DUQUESNE
DESCRIPTION:Bonjour à tous\,\n\nNous vous accueillerons avec le plus grand plaisir le\n\nDIMANCHE 1er JUILLET 2018 à 14h00\nA la salle des fêtes de PONT DE VEYLE (01)\nPour un après-midi country line dance avec DJ MARC DUQUESNE et PIERRE LORRY\n\nVous trouverez en pj les différents fichiers\, affiche\, playlists et le bulletin d’inscriptions.\n\nATTENTION INSCRIPTIONS OBLIGATOIRES AVANT LE 23 JUIN 2018.\n\nAu plaisir de vous recevoir.\nBien à vous.\nYannick pour Y’anim’ & Co
URL:https://countrydancecompany.com/event/concert-dansant-pierre-lorry-avec-dj-marc-duquesne/
LOCATION:PONT DE VEYLE (01)\, Salle des fêtes\, PONT DE VEYLE (01)\, France
END:VEVENT
END:VCALENDAR