BEGIN:VCALENDAR
VERSION:2.0
PRODID:-//Country Dance Company - ECPv6.15.17.1//NONSGML v1.0//EN
CALSCALE:GREGORIAN
METHOD:PUBLISH
X-ORIGINAL-URL:https://countrydancecompany.com
X-WR-CALDESC:Évènements pour Country Dance Company
REFRESH-INTERVAL;VALUE=DURATION:PT1H
X-Robots-Tag:noindex
X-PUBLISHED-TTL:PT1H
BEGIN:VTIMEZONE
TZID:Europe/Zurich
BEGIN:DAYLIGHT
TZOFFSETFROM:+0100
TZOFFSETTO:+0200
TZNAME:CEST
DTSTART:20170326T010000
END:DAYLIGHT
BEGIN:STANDARD
TZOFFSETFROM:+0200
TZOFFSETTO:+0100
TZNAME:CET
DTSTART:20171029T010000
END:STANDARD
BEGIN:DAYLIGHT
TZOFFSETFROM:+0100
TZOFFSETTO:+0200
TZNAME:CEST
DTSTART:20180325T010000
END:DAYLIGHT
BEGIN:STANDARD
TZOFFSETFROM:+0200
TZOFFSETTO:+0100
TZNAME:CET
DTSTART:20181028T010000
END:STANDARD
BEGIN:DAYLIGHT
TZOFFSETFROM:+0100
TZOFFSETTO:+0200
TZNAME:CEST
DTSTART:20190331T010000
END:DAYLIGHT
BEGIN:STANDARD
TZOFFSETFROM:+0200
TZOFFSETTO:+0100
TZNAME:CET
DTSTART:20191027T010000
END:STANDARD
END:VTIMEZONE
BEGIN:VEVENT
DTSTART;VALUE=DATE:20180629
DTEND;VALUE=DATE:20180702
DTSTAMP:20260421T080935
CREATED:20180617T180719Z
LAST-MODIFIED:20180617T180742Z
UID:30173-1530252000-1530424799@countrydancecompany.com
SUMMARY:week-end dédié au western
DESCRIPTION:Bonjour\, \nNous organisons les 29 et 30 juin prochains un festival Western Country à Andrézieux-Bouthéon dans la Loire. Un week-end dédié au western et à la country où cinéma\, danse\, spectacles équestres et concert se mêlent pour un dépaysement complet. Nousproposons à cette occasion des cours de danse country (gratuit) avec Lily West pour 3 niveaux : débutant\, intermédiaire et confirmé. Si vous pouvez diffuser largement l’information\, nous vous en serions très reconnaissant. L’objectif étant d’offrir au plus grande nombre l’accès à cet univers convivial et festif. \nJe reste à votre disposition si vous souhaitez d’autres informations. \nhttp://www.andrezieux-boutheon.com/Western-n-country-festival.html \n  \nhttps://www.facebook.com/events/201228977182847/ \nCordialement\, \nVanessa CORDIER \nChargée de Communication \nService Communication \nVille d’Andrézieux-Bouthéon \n04 77 55 81 92 \n  \n\n\n\nVanessa Cordier\n\n\nChargée de Communication\n\n\nTél. 04 77 55 81 92\n\n\nvcordier@andrezieux-boutheon.com\n\n\nService Communication\n\n\n\n\n\n\nDépliant Western web \n  \n 
URL:https://countrydancecompany.com/event/30173/
END:VEVENT
END:VCALENDAR