BEGIN:VCALENDAR
VERSION:2.0
PRODID:-//Country Dance Company - ECPv6.15.17.1//NONSGML v1.0//EN
CALSCALE:GREGORIAN
METHOD:PUBLISH
X-WR-CALNAME:Country Dance Company
X-ORIGINAL-URL:https://countrydancecompany.com
X-WR-CALDESC:Évènements pour Country Dance Company
REFRESH-INTERVAL;VALUE=DURATION:PT1H
X-Robots-Tag:noindex
X-PUBLISHED-TTL:PT1H
BEGIN:VTIMEZONE
TZID:Europe/Zurich
BEGIN:DAYLIGHT
TZOFFSETFROM:+0100
TZOFFSETTO:+0200
TZNAME:CEST
DTSTART:20170326T010000
END:DAYLIGHT
BEGIN:STANDARD
TZOFFSETFROM:+0200
TZOFFSETTO:+0100
TZNAME:CET
DTSTART:20171029T010000
END:STANDARD
BEGIN:DAYLIGHT
TZOFFSETFROM:+0100
TZOFFSETTO:+0200
TZNAME:CEST
DTSTART:20180325T010000
END:DAYLIGHT
BEGIN:STANDARD
TZOFFSETFROM:+0200
TZOFFSETTO:+0100
TZNAME:CET
DTSTART:20181028T010000
END:STANDARD
BEGIN:DAYLIGHT
TZOFFSETFROM:+0100
TZOFFSETTO:+0200
TZNAME:CEST
DTSTART:20190331T010000
END:DAYLIGHT
BEGIN:STANDARD
TZOFFSETFROM:+0200
TZOFFSETTO:+0100
TZNAME:CET
DTSTART:20191027T010000
END:STANDARD
END:VTIMEZONE
BEGIN:VEVENT
DTSTART;TZID=Europe/Zurich:20180602T100000
DTEND;TZID=Europe/Zurich:20180603T120000
DTSTAMP:20260421T093048
CREATED:20180529T085734Z
LAST-MODIFIED:20180529T090732Z
UID:30049-1527933600-1528027200@countrydancecompany.com
SUMMARY:Stage et après-midi country - La Pierre et la Terrasse - 2 et 3 juin 2018
DESCRIPTION:  \nFlyer La terrasse dimanche 3 juin mai 2018
URL:https://countrydancecompany.com/event/stage-et-apres-midi-country-la-pierre-et-la-terrasse-2-et-3-juin-2018/
LOCATION:38570 Salle des fêtes de la Pierre\, Salle des Fêtes de la Pierre\, 38570\, France
ORGANIZER;CN="Farwestdream":MAILTO:farwestdream73@gmail.com
END:VEVENT
END:VCALENDAR