BEGIN:VCALENDAR
VERSION:2.0
PRODID:-//Country Dance Company - ECPv6.15.20//NONSGML v1.0//EN
CALSCALE:GREGORIAN
METHOD:PUBLISH
X-WR-CALNAME:Country Dance Company
X-ORIGINAL-URL:https://countrydancecompany.com
X-WR-CALDESC:Évènements pour Country Dance Company
REFRESH-INTERVAL;VALUE=DURATION:PT1H
X-Robots-Tag:noindex
X-PUBLISHED-TTL:PT1H
BEGIN:VTIMEZONE
TZID:Europe/Zurich
BEGIN:DAYLIGHT
TZOFFSETFROM:+0100
TZOFFSETTO:+0200
TZNAME:CEST
DTSTART:20170326T010000
END:DAYLIGHT
BEGIN:STANDARD
TZOFFSETFROM:+0200
TZOFFSETTO:+0100
TZNAME:CET
DTSTART:20171029T010000
END:STANDARD
BEGIN:DAYLIGHT
TZOFFSETFROM:+0100
TZOFFSETTO:+0200
TZNAME:CEST
DTSTART:20180325T010000
END:DAYLIGHT
BEGIN:STANDARD
TZOFFSETFROM:+0200
TZOFFSETTO:+0100
TZNAME:CET
DTSTART:20181028T010000
END:STANDARD
BEGIN:DAYLIGHT
TZOFFSETFROM:+0100
TZOFFSETTO:+0200
TZNAME:CEST
DTSTART:20190331T010000
END:DAYLIGHT
BEGIN:STANDARD
TZOFFSETFROM:+0200
TZOFFSETTO:+0100
TZNAME:CET
DTSTART:20191027T010000
END:STANDARD
END:VTIMEZONE
BEGIN:VEVENT
DTSTART;TZID=Europe/Zurich:20180526T080000
DTEND;TZID=Europe/Zurich:20180527T040000
DTSTAMP:20260423T113203
CREATED:20180517T080923Z
LAST-MODIFIED:20180517T081737Z
UID:29970-1527321600-1527393600@countrydancecompany.com
SUMMARY:Journée Interne 10 ans Country Dance Company
DESCRIPTION:Journée festive pour les 10 ans de l’association\nRéservée aux membres et proches.
URL:https://countrydancecompany.com/event/journee-interne-10-ans-country-dance-company/
LOCATION:Cessy\, Rue de la Mairie\, Cessy\, 01170\, France
END:VEVENT
BEGIN:VEVENT
DTSTART;TZID=Europe/Zurich:20180526T140000
DTEND;TZID=Europe/Zurich:20180527T173000
DTSTAMP:20260423T113203
CREATED:20180524T140733Z
LAST-MODIFIED:20180524T140733Z
UID:30014-1527343200-1527442200@countrydancecompany.com
SUMMARY:Week-End Américain - Chasselay
DESCRIPTION:Ambiance country organise un WE Américain \n \nPlaylist 2018-05-26
URL:https://countrydancecompany.com/event/week-end-americain-chasselay/
LOCATION:Chasselay\, Chasselay\, Chasselay\, France
END:VEVENT
BEGIN:VEVENT
DTSTART;TZID=Europe/Zurich:20180526T210000
DTEND;TZID=Europe/Zurich:20180526T233000
DTSTAMP:20260423T113203
CREATED:20180514T203857Z
LAST-MODIFIED:20180514T210216Z
UID:29955-1527368400-1527377400@countrydancecompany.com
SUMMARY:Grande Soirée Country avec les Rusty Legs
DESCRIPTION:Playlist Chaussin – users \nBULLETIN D’INSCRIPTION BAL MACADAM39-26 MAI 2018
URL:https://countrydancecompany.com/event/grande-soiree-country-avec-les-rusty-legs/
LOCATION:34 rue Simone Michel Levy 39120 Chaussin\, 34 Rue Simone Michel Levy\, Chaussin\, 39\, 39120\, France
CATEGORIES:Concert
ORGANIZER;CN="":MAILTO:http://macadam39.fr/
END:VEVENT
END:VCALENDAR