BEGIN:VCALENDAR
VERSION:2.0
PRODID:-//Country Dance Company - ECPv6.15.20//NONSGML v1.0//EN
CALSCALE:GREGORIAN
METHOD:PUBLISH
X-ORIGINAL-URL:https://countrydancecompany.com
X-WR-CALDESC:Évènements pour Country Dance Company
REFRESH-INTERVAL;VALUE=DURATION:PT1H
X-Robots-Tag:noindex
X-PUBLISHED-TTL:PT1H
BEGIN:VTIMEZONE
TZID:Europe/Zurich
BEGIN:DAYLIGHT
TZOFFSETFROM:+0100
TZOFFSETTO:+0200
TZNAME:CEST
DTSTART:20170326T010000
END:DAYLIGHT
BEGIN:STANDARD
TZOFFSETFROM:+0200
TZOFFSETTO:+0100
TZNAME:CET
DTSTART:20171029T010000
END:STANDARD
BEGIN:DAYLIGHT
TZOFFSETFROM:+0100
TZOFFSETTO:+0200
TZNAME:CEST
DTSTART:20180325T010000
END:DAYLIGHT
BEGIN:STANDARD
TZOFFSETFROM:+0200
TZOFFSETTO:+0100
TZNAME:CET
DTSTART:20181028T010000
END:STANDARD
BEGIN:DAYLIGHT
TZOFFSETFROM:+0100
TZOFFSETTO:+0200
TZNAME:CEST
DTSTART:20190331T010000
END:DAYLIGHT
BEGIN:STANDARD
TZOFFSETFROM:+0200
TZOFFSETTO:+0100
TZNAME:CET
DTSTART:20191027T010000
END:STANDARD
END:VTIMEZONE
BEGIN:VEVENT
DTSTART;TZID=Europe/Zurich:20180521T120000
DTEND;TZID=Europe/Zurich:20180521T183000
DTSTAMP:20260423T121653
CREATED:20180517T070549Z
LAST-MODIFIED:20180517T074530Z
UID:29965-1526904000-1526927400@countrydancecompany.com
SUMMARY:Animation Country - La Terrasse
DESCRIPTION:J’animerais country à la Terrasse le Lundi 21 mai (Pentecôte) alors si vous ne savez pas quoi faire de cette journée venez me rejoindre sur la piste de danse. \nToujours danses à la demande\, pensez à vos clés ! \nPAF animation 3 € par danseur(se) ou gratuit si vous mangez sur place ! \nAu choix en restauration : Steack Haché Frites ou Burger Frites \nA lundi avec plaisir\nBises\nTite Nad \n \nFlyer La terrasse lundi 21 mai 2018
URL:https://countrydancecompany.com/event/animation-country-la-terrasse/
END:VEVENT
END:VCALENDAR